Workbook
Name グローバル教育院: リスト!$P$2:$P$6
Name システム情報工学: リスト!$L$2:$L$10
Name ビジネス科学: リスト!$J$2:$J$7
Name 医: リスト!$N$30:$N$32
Name 学群: リスト!$H$29:$P$29
Name 教育: リスト!$H$2:$H$5
Name 芸術専門: リスト!$O$30
Name 研究科: リスト!$H$1:$P$1
Name 社会・国際: リスト!$I$30:$I$31
Name 情報: リスト!$M$30:$M$32
Name 人間: リスト!$J$30:$J$32
Name 人間総合科学: リスト!$N$2:$N$28
Name 人文・文化: リスト!$H$30:$H$32
Name 人文社会科学: リスト!$I$2:$I$9
Name 図書館情報メディア: リスト!$O$2:$O$3
Name 数理物質科学: リスト!$K$2:$K$9
Name 生命環境: リスト!$K$30:$K$32
Name 生命環境科学: リスト!$M$2:$M$17
Name 体育専門: リスト!$P$30
Name 理工: リスト!$L$30:$L$35

Sheet 申請書
A2: ２０２６年度第１期（春学期） 筑波大学授業料免除申請書 ≪留学生用≫ | AQ2: 【不備がある場合は赤字で表示されます】
B3: ※申請書はA4判で両面印刷・上下一致し、１枚に収めてください。取り消し線の引かれている箇所は記入不要です。 | AQ3: =IF(AND(AF4<>"",AI4<>"",AM4<>""),"","※『記入日』が未入力です。") -> ※『記入日』が未入力です。
AD4: 西暦 | AH4: 年 | AL4: 月 | AO4: 日 | AQ4: =IF(F7<>"","","※『学籍番号』が未入力です。") -> ※『学籍番号』が未入力です。
B5: 筑波大学長 殿 | AQ5: =IF(AND(S7<>"",V7<>""),"","※『入学年度』が未入力です。") -> ※『入学年度』が未入力です。
AQ6: =IF(Y7="入学 ・ 編入学","※「入学」または「編入学」を選択してください。","") -> ※「入学」または「編入学」を選択してください。
B7: 学籍番号 | L7: 入学年度 | P7: 西暦 | U7: 年 | X7: 月 | Y7: 入学 ・ 編入学 | AE7: 長期履修許可者 | AJ7: 無・有 | AM7: （ | AO7: 年） | AQ7: =IF(AJ7="無・有","※『長期履修許可』の有無を選択してください。",IF(AND(AJ7="有",AN7=""),"※長期履修許可年数を入力してください。","")) -> ※『長期履修許可』の有無を選択してください。
K8: 卒業・修了予定 | P8: 西暦 | U8: 年 | X8: 月 | AQ8: =IF(AND(S8<>"",V8<>""),"","※『卒業・修了予定』が未入力です。") -> ※『卒業・修了予定』が未入力です。
B9: 所属 | I9: 学群・群 | V9: 学類・類 | AC9: 年次 | AQ9: =IF(OR(AND(E9<>"",OR(L9<>"",E9="体育専門",E9="芸術専門")),AND(E10<>"",L10<>"",Z10<>"")),"","※『所属』が未入力です。") -> ※『所属』が未入力です。
I10: 課程 | V10: 研究群・研究科 | AH10: 学位ﾌﾟﾛｸﾞﾗﾑ 専攻 | AN10: 年次 | AQ10: =IF(OR(Z9<>"",AL10<>""),"","※『年次』が未入力です。") -> ※『年次』が未入力です。
B12: フリガナ | AQ12: =IF(F12<>"","","※『フリガナ』が未入力です。") -> ※『フリガナ』が未入力です。
B13: 氏 名 | AQ13: ※印刷後に署名してください。
B15: 父母等
B17: 氏 名 | AB17: 申請者との続柄
B18: ※申請者は以下のチェック項目のうち希望するほうを必ずチェックしてください。
B19: 下記の理由により、２０２６年度第１期（春学期分）の | U19: 授業料免除 | AQ19: =IF(OR(リスト!C2=TRUE,リスト!C3=TRUE),"","※『授業料免除』または『授業料免除及び徴収猶予』のどちらかを選択してください。") -> ※『授業料免除』または『授業料免除及び徴収猶予』のどちらかを選択してください。
U20: 授業料免除及び徴収猶予 | AG20: を希望します。
B22: ●授業料免除を申請する理由（該当する理由の□にチェック）
C23: １ 一般（経済的理由） | J23: □２ 事情（死亡） | P23: □３ 事情（災害） | W23: □４ 事情（失職） | AE23: ５ 事情（その他） | AQ23: =IF(OR(リスト!D2=TRUE,リスト!D3=TRUE,リスト!D4=TRUE,リスト!D5=TRUE,リスト!D6=TRUE,リスト!D7=TRUE),"","※『授業料免除を申請する理由』を選択してください。") -> ※『授業料免除を申請する理由』を選択してください。
B25: 申請の理由及び家庭の事情等（経済的理由等について本人が具体的に記入すること）
B26: ※外国人留学生も日本語で記入してください
AQ28: =IF(B28<>"","","※『申請の理由及び家庭の事情等』が未入力です。") -> ※『申請の理由及び家庭の事情等』が未入力です。
B41: 今回継続申請しない理由（※1つ選択）: | M41: 前回未申請 ・ 前回特別免除 ・ 2025年度収入変更 ・ 家族数変更 ・ その他（ ）
B43: 申請者本人の休学歴（休学がある場合のみ記入）
B44: ①休学歴 | D44: 西暦 | G44: 年 | I44: 月 | J44: ～西暦 | M44: 年 | O44: 月 | P44: （ | S44: か月間） | V44: 西暦 | Y44: 年 | AB44: 月 | AC44: ～西暦 | AF44: 年 | AH44: 月 | AI44: （ | AL44: か月間）
D45: 西暦 | G45: 年 | I45: 月 | J45: ～西暦 | M45: 年 | O45: 月 | P45: （ | S45: か月間） | V45: 西暦 | Y45: 年 | AB45: 月 | AC45: ～西暦 | AF45: 年 | AH45: 月 | AI45: （ | AL45: か月間）
D46: 西暦 | G46: 年 | I46: 月 | J46: ～西暦 | M46: 年 | O46: 月 | P46: （ | S46: か月間） | V46: 西暦 | Y46: 年 | AB46: 月 | AC46: ～西暦 | AF46: 年 | AH46: 月 | AI46: （ | AL46: か月間）
B48: ②修業年限超過者 （修業年限を超過している者は超過している期間を下記に記入してください。今回申請の基準日は2026年9月30日時点です。）
B49: 超過期間 | I49: 年 | L49: か月 | O49: 参考：超過期間＝｛（入学してから基準日までの期間）－（休学期間）｝－（最短修業年限）
B51: ③２０２６年度第１期（春学期）家計急変申請希望者 (今回家計急変者として申請する場合は記入）
B52: 家計支持者 | G52: 本人との続柄 （ ) | P52: 家計急変事由（ )
B54: ④家計急変申請の有無 （※全員記入）
B55: ２０２５年度第１期 （前々回） | G55: 有 ・ 無 | O55: ２０２５年度第２期 （前 回） | U55: 有 ・ 無
B58: ⑤母子父子世帯 （母子父子世帯の場合は記入）
B59: 母 | D59: 死亡 ・ 生別 | J59: ( 年 月） | S59: 養育費 | V59: 有 ・ 無 | Z59: 遺族年金 | AC59: 有 ・ 無 | AQ59: =IF(OR(AND(D59<>"死亡 ・ 生別",OR(K59="",O59="")),AND(D60<>"死亡 ・ 生別",OR(K60="",O60=""))),"※母子父子世帯となった年月を入力してください。","")
B60: 父 | D60: 死亡 ・ 生別 | J60: ( 年 月） | S60: 養育費 | V60: 有 ・ 無 | Z60: 遺族年金 | AC60: 有 ・ 無 | AQ60: =IF(OR(AND(D59="死亡",AC59="有 ・ 無"),AND(D60="死亡",AC60="有 ・ 無")),"※『遺族年金の有無』を選択してください。","")
B62: 所 属 （2026年4月1日時点） | G62: =IF(E9="","",E9) | L62: 学群 群 | N62: =IF(L9="","",L9) | X62: 学類 類 | AL62: =IF(Z9="","",Z9) | AN62: 年次
G63: =IF(E10="","",E10) | L63: 課程 | N63: =IF(L10="","",L10) | X63: 研究群 研究科 | Z63: =IF(Z10="","",Z10) | AI63: 学位ﾌﾟﾛｸﾞﾗﾑ・専攻 | AL63: =IF(AL10="","",AL10) | AN63: 年次
B64: 学籍番号 | G64: =IF(F7="","",F7) | V64: 氏 名 | AQ64: =IF(X64<>"","","※『氏名』が未入力です。") -> ※『氏名』が未入力です。
B65: 住所等 | D65: 本 人 | E65: （〒 | K65: ） | V65: 家 族 | W65: （〒 | AD65: ） | AQ65: =IF(AND(F65<>"",OR(L65<>"",E66<>""),F67<>"",J67<>"",N67<>""),"","※本人の『住所』または『電話番号』が未入力です。") -> ※本人の『住所』または『電話番号』が未入力です。
AQ66: =IF(OR(Q71<>"",V71<>"",AA71<>"",AF71<>"",AK71<>""),IF(AND(X65<>"",OR(AE65<>"",W66<>""),X67<>"",AC67<>"",AG67<>""),"","※家族の『住所』または『電話番号』が未記入です。"),"")
...

Sheet リスト
B1: 【課程】 | C1: 【免除or猶予】 | D1: 【申請理由】 | E1: 【特別控除】 | F1: 【印刷】 | H1: 教育 | I1: 人文社会科学 | J1: ビジネス科学 | K1: 数理物質科学 | L1: システム情報工学 | M1: 生命環境科学 | N1: 人間総合科学 | O1: 図書館情報メディア | P1: グローバル教育院
B2: 修士 | C2: FALSE | D2: FALSE | E2: FALSE | F2: FALSE | H2: スクールリーダーシップ開発 | I2: 哲学・思想 | J2: 経営システム科学 | K2: 数学 | L2: 社会工学 | M2: 環境バイオマス共生学 | N2: スポーツ健康システム・マネジメント | O2: 図書館情報メディア | P2: ライフイノベーション学位プログラム
B3: 博士前期 | C3: FALSE | D3: FALSE | E3: FALSE | H3: 教科教育 | I3: 歴史・人類学 | J3: 企業科学 | K3: 物理学 | L3: リスク工学 | M3: 地球科学 | N3: フロンティア医科学 | O3: - | P3: ヒューマンバイオロジー学位プログラム
B4: 博士後期 | D4: FALSE | E4: FALSE | H4: 教育学（国際教育）修士プログラム | I4: 文芸・言語 | J4: 企業法学 | K4: 化学 | L4: コンピュータサイエンス | M4: 生物科学 | N4: 教育学 | P4: エンパワーメント情報学プログラム
B5: 専門職学位 | D5: FALSE | E5: FALSE | H5: - | I5: 現代語・現代文化 | J5: 法曹 | K5: ナノサイエンス・ナノテクノロジー | L5: 知能機能システム | M5: 生物資源科学 | N5: 教育基礎学 | P5: ヒューマニクス学位プログラム
B6: ３年制博士 | D6: FALSE | I6: 国際公共政策 | J6: 国際経営プロフェッショナル | K6: 電子・物理工学 | L6: 構造エネルギー工学 | M6: 環境科学 | N6: 学校教育学 | P6: -
B7: 一貫制博士 | D7: FALSE | I7: 国際地域研究 | J7: - | K7: 物性・分子工学 | L7: 社会システム・マネジメント | M7: 地球環境科学 | N7: 心理
I8: 国際日本研究 | K8: 物質・材料工学 | L8: - | M8: 地球進化科学 | N8: 心理学
I9: - | K9: - | M9: 国際地縁技術開発科学 | N9: 障害科学
M10: 生物圏資源科学 | N10: 生涯発達
M11: 生物機能科学 | N11: 生涯発達科学
M12: 生命産業科学 | N12: 感性認知脳科学
M13: 持続環境学 | N13: 看護科学
M14: 先端農業技術科学 | N14: 体育学
M15: 国際連携持続環境科学 | N15: 体育科学
M16: 山岳科学学位プログラム | N16: 芸術
M17: - | N17: 世界遺産
N18: 世界文化遺産学
N19: ヒューマン・ケア科学
N20: スポーツ医学
N21: コーチング学
N22: 生命システム医学
N23: 疾患制御医学
N24: スポーツ国際開発学共同
N25: 大学体育スポーツ高度化共同
N26: 国際連携食料健康科学
N27: スポーツウエルネス学位プログラム
N28: -
H29: 人文・文化 | I29: 社会・国際 | J29: 人間 | K29: 生命環境 | L29: 理工 | M29: 情報 | N29: 医 | O29: 芸術専門 | P29: 体育専門
H30: 人文 | I30: 社会 | J30: 教育 | K30: 生物 | L30: 数 | M30: 情報科 | N30: 医 | O30: - | P30: -
H31: 比較文化 | I31: 国際総合 | J31: 心理 | K31: 生物資源 | L31: 物理 | M31: 情報メディア創成 | N31: 看護
H32: 日本語・日本文化 | J32: 障害科 | K32: 地球 | L32: 化 | M32: 知識情報・図書館 | N32: 医療科
L33: 応用理工
L34: 工学システム
L35: 社会工
